BEGIN:VCALENDAR
VERSION:2.0
PRODID:-//St. Remigius Harmonie - ECPv6.15.20//NONSGML v1.0//EN
CALSCALE:GREGORIAN
METHOD:PUBLISH
X-ORIGINAL-URL:https://www.remigiusharmonie.nl
X-WR-CALDESC:Evenementen voor St. Remigius Harmonie
REFRESH-INTERVAL;VALUE=DURATION:PT1H
X-Robots-Tag:noindex
X-PUBLISHED-TTL:PT1H
BEGIN:VTIMEZONE
TZID:Europe/Amsterdam
BEGIN:DAYLIGHT
TZOFFSETFROM:+0100
TZOFFSETTO:+0200
TZNAME:CEST
DTSTART:20250330T010000
END:DAYLIGHT
BEGIN:STANDARD
TZOFFSETFROM:+0200
TZOFFSETTO:+0100
TZNAME:CET
DTSTART:20251026T010000
END:STANDARD
BEGIN:DAYLIGHT
TZOFFSETFROM:+0100
TZOFFSETTO:+0200
TZNAME:CEST
DTSTART:20260329T010000
END:DAYLIGHT
BEGIN:STANDARD
TZOFFSETFROM:+0200
TZOFFSETTO:+0100
TZNAME:CET
DTSTART:20261025T010000
END:STANDARD
BEGIN:DAYLIGHT
TZOFFSETFROM:+0100
TZOFFSETTO:+0200
TZNAME:CEST
DTSTART:20270328T010000
END:DAYLIGHT
BEGIN:STANDARD
TZOFFSETFROM:+0200
TZOFFSETTO:+0100
TZNAME:CET
DTSTART:20271031T010000
END:STANDARD
END:VTIMEZONE
BEGIN:VEVENT
DTSTART;VALUE=DATE:20260407
DTEND;VALUE=DATE:20260411
DTSTAMP:20260420T122728
CREATED:20180930T182739Z
LAST-MODIFIED:20251209T202030Z
UID:2796-1775520000-1775865599@www.remigiusharmonie.nl
SUMMARY:Donateursactie
DESCRIPTION:Ook dit jaar komen wij bij u langs voor onze donateursactie. In de week na Pasen van 7 april t/m 10 april zal iemand van de harmonie u weer bezoeken. \nOnze donateursactie is bedoeld als financiële steun aan de St. Remigius Harmonie voor het behoud van betaalbare muziek en muziekcultuur in ons dorp! Daarnaast wordt uw bijdrage ook gebruikt voor de opleiding van onze jeugd.
URL:https://www.remigiusharmonie.nl/activiteit/donateursactie-3/
LOCATION:Weerselo\, Weerselo
CATEGORIES:Actie
ATTACH;FMTTYPE=image/png:https://www.remigiusharmonie.nl/wp-content/uploads/2025/01/logo-St.-Remigius-Harmonie.png
ORGANIZER;CN="St. Remigius Harmonie":MAILTO:info@remigiusharmonie.nl
END:VEVENT
BEGIN:VEVENT
DTSTART;TZID=Europe/Amsterdam:20260314T090000
DTEND;TZID=Europe/Amsterdam:20260314T130000
DTSTAMP:20260420T122728
CREATED:20191217T205713Z
LAST-MODIFIED:20251209T201212Z
UID:4016-1773478800-1773493200@www.remigiusharmonie.nl
SUMMARY:Potgrondactie
DESCRIPTION:
URL:https://www.remigiusharmonie.nl/activiteit/potgrondactie-4/
CATEGORIES:Actie
ATTACH;FMTTYPE=image/jpeg:https://www.remigiusharmonie.nl/wp-content/uploads/2017/01/Potgrond-09.jpg
ORGANIZER;CN="St. Remigius Harmonie":MAILTO:info@remigiusharmonie.nl
END:VEVENT
END:VCALENDAR