BEGIN:VCALENDAR
VERSION:2.0
PRODID:-//St. Remigius Harmonie - ECPv6.15.20//NONSGML v1.0//EN
CALSCALE:GREGORIAN
METHOD:PUBLISH
X-ORIGINAL-URL:https://www.remigiusharmonie.nl
X-WR-CALDESC:Evenementen voor St. Remigius Harmonie
REFRESH-INTERVAL;VALUE=DURATION:PT1H
X-Robots-Tag:noindex
X-PUBLISHED-TTL:PT1H
BEGIN:VTIMEZONE
TZID:Europe/Amsterdam
BEGIN:DAYLIGHT
TZOFFSETFROM:+0100
TZOFFSETTO:+0200
TZNAME:CEST
DTSTART:20250330T010000
END:DAYLIGHT
BEGIN:STANDARD
TZOFFSETFROM:+0200
TZOFFSETTO:+0100
TZNAME:CET
DTSTART:20251026T010000
END:STANDARD
BEGIN:DAYLIGHT
TZOFFSETFROM:+0100
TZOFFSETTO:+0200
TZNAME:CEST
DTSTART:20260329T010000
END:DAYLIGHT
BEGIN:STANDARD
TZOFFSETFROM:+0200
TZOFFSETTO:+0100
TZNAME:CET
DTSTART:20261025T010000
END:STANDARD
BEGIN:DAYLIGHT
TZOFFSETFROM:+0100
TZOFFSETTO:+0200
TZNAME:CEST
DTSTART:20270328T010000
END:DAYLIGHT
BEGIN:STANDARD
TZOFFSETFROM:+0200
TZOFFSETTO:+0100
TZNAME:CET
DTSTART:20271031T010000
END:STANDARD
END:VTIMEZONE
BEGIN:VEVENT
DTSTART;TZID=Europe/Amsterdam:20261011T120000
DTEND;TZID=Europe/Amsterdam:20261011T160000
DTSTAMP:20260420T140905
CREATED:20171204T130305Z
LAST-MODIFIED:20251210T172411Z
UID:2564-1791720000-1791734400@www.remigiusharmonie.nl
SUMMARY:Weerselose Markt parkeren
DESCRIPTION:
URL:https://www.remigiusharmonie.nl/activiteit/parkeren-weerselose-markt/
LOCATION:Weerselose Markt\, Bornsestraat 14\, Weerselo\, 7595 LG
CATEGORIES:Actie
ATTACH;FMTTYPE=image/jpeg:https://www.remigiusharmonie.nl/wp-content/uploads/2017/01/Parkeren.jpg
END:VEVENT
BEGIN:VEVENT
DTSTART;VALUE=DATE:20261116
DTEND;VALUE=DATE:20261219
DTSTAMP:20260420T140905
CREATED:20180930T180845Z
LAST-MODIFIED:20251223T180318Z
UID:2785-1794787200-1797638399@www.remigiusharmonie.nl
SUMMARY:Kerstloterij
DESCRIPTION:In de periode van 16 november tot 18 december komen onze leden bij u in Weerselo langs de deur om kerstloten te verkopen. \nDe hoofdprijs van de loterij is een vleeswaardebon van €100\,- te besteden bij Keurslagerij Blokhuis te Weerselo! Daarnaast zijn er nog 99 vleeswaardebonnen te winnen met een waarde van €5\,- tot €75\,-. \nDe loten kosten €1\,- per stuk en zijn ook verkrijgbaar bij Speelgoed en Kadoshop Wesselink.
URL:https://www.remigiusharmonie.nl/activiteit/kerstloterij-2/
LOCATION:Weerselo\, Weerselo
CATEGORIES:Actie
ATTACH;FMTTYPE=image/jpeg:https://www.remigiusharmonie.nl/wp-content/uploads/2018/09/blokhuis_na.jpg
ORGANIZER;CN="St. Remigius Harmonie":MAILTO:info@remigiusharmonie.nl
END:VEVENT
END:VCALENDAR