BEGIN:VCALENDAR
VERSION:2.0
PRODID:-//St. Remigius Harmonie - ECPv6.15.20//NONSGML v1.0//EN
CALSCALE:GREGORIAN
METHOD:PUBLISH
X-WR-CALNAME:St. Remigius Harmonie
X-ORIGINAL-URL:https://www.remigiusharmonie.nl
X-WR-CALDESC:Evenementen voor St. Remigius Harmonie
REFRESH-INTERVAL;VALUE=DURATION:PT1H
X-Robots-Tag:noindex
X-PUBLISHED-TTL:PT1H
BEGIN:VTIMEZONE
TZID:Europe/Amsterdam
BEGIN:DAYLIGHT
TZOFFSETFROM:+0100
TZOFFSETTO:+0200
TZNAME:CEST
DTSTART:20250330T010000
END:DAYLIGHT
BEGIN:STANDARD
TZOFFSETFROM:+0200
TZOFFSETTO:+0100
TZNAME:CET
DTSTART:20251026T010000
END:STANDARD
BEGIN:DAYLIGHT
TZOFFSETFROM:+0100
TZOFFSETTO:+0200
TZNAME:CEST
DTSTART:20260329T010000
END:DAYLIGHT
BEGIN:STANDARD
TZOFFSETFROM:+0200
TZOFFSETTO:+0100
TZNAME:CET
DTSTART:20261025T010000
END:STANDARD
BEGIN:DAYLIGHT
TZOFFSETFROM:+0100
TZOFFSETTO:+0200
TZNAME:CEST
DTSTART:20270328T010000
END:DAYLIGHT
BEGIN:STANDARD
TZOFFSETFROM:+0200
TZOFFSETTO:+0100
TZNAME:CET
DTSTART:20271031T010000
END:STANDARD
END:VTIMEZONE
BEGIN:VEVENT
DTSTART;TZID=Europe/Amsterdam:20260530T183000
DTEND;TZID=Europe/Amsterdam:20260530T193000
DTSTAMP:20260420T123430
CREATED:20170122T163533Z
LAST-MODIFIED:20260409T124621Z
UID:958-1780165800-1780169400@www.remigiusharmonie.nl
SUMMARY:Weerselo Got Talent
DESCRIPTION:
URL:https://www.remigiusharmonie.nl/activiteit/weerselo_got_talent/
LOCATION:Weerselo\, Weerselo
CATEGORIES:Concert
ATTACH;FMTTYPE=image/jpeg:https://www.remigiusharmonie.nl/wp-content/uploads/2024/06/M_Z_6375.jpg
END:VEVENT
END:VCALENDAR