BEGIN:VCALENDAR
VERSION:2.0
PRODID:-//St. Remigius Harmonie - ECPv6.15.20//NONSGML v1.0//EN
CALSCALE:GREGORIAN
METHOD:PUBLISH
X-WR-CALNAME:St. Remigius Harmonie
X-ORIGINAL-URL:https://www.remigiusharmonie.nl
X-WR-CALDESC:Evenementen voor St. Remigius Harmonie
REFRESH-INTERVAL;VALUE=DURATION:PT1H
X-Robots-Tag:noindex
X-PUBLISHED-TTL:PT1H
BEGIN:VTIMEZONE
TZID:Europe/Amsterdam
BEGIN:DAYLIGHT
TZOFFSETFROM:+0100
TZOFFSETTO:+0200
TZNAME:CEST
DTSTART:20250330T010000
END:DAYLIGHT
BEGIN:STANDARD
TZOFFSETFROM:+0200
TZOFFSETTO:+0100
TZNAME:CET
DTSTART:20251026T010000
END:STANDARD
BEGIN:DAYLIGHT
TZOFFSETFROM:+0100
TZOFFSETTO:+0200
TZNAME:CEST
DTSTART:20260329T010000
END:DAYLIGHT
BEGIN:STANDARD
TZOFFSETFROM:+0200
TZOFFSETTO:+0100
TZNAME:CET
DTSTART:20261025T010000
END:STANDARD
BEGIN:DAYLIGHT
TZOFFSETFROM:+0100
TZOFFSETTO:+0200
TZNAME:CEST
DTSTART:20270328T010000
END:DAYLIGHT
BEGIN:STANDARD
TZOFFSETFROM:+0200
TZOFFSETTO:+0100
TZNAME:CET
DTSTART:20271031T010000
END:STANDARD
END:VTIMEZONE
BEGIN:VEVENT
DTSTART;TZID=Europe/Amsterdam:20260614T143000
DTEND;TZID=Europe/Amsterdam:20260614T163000
DTSTAMP:20260420T140017
CREATED:20210214T095432Z
LAST-MODIFIED:20260226T184324Z
UID:4285-1781447400-1781454600@www.remigiusharmonie.nl
SUMMARY:Zomerconcert
DESCRIPTION:
URL:https://www.remigiusharmonie.nl/activiteit/zomerconcert/
LOCATION:Overijssel
CATEGORIES:Concert
ATTACH;FMTTYPE=image/jpeg:https://www.remigiusharmonie.nl/wp-content/uploads/2017/11/345890775_785570549532926_8116974285666887281_n.jpg
ORGANIZER;CN="St. Remigius Harmonie":MAILTO:info@remigiusharmonie.nl
END:VEVENT
END:VCALENDAR